BEGIN:VCALENDAR
VERSION:2.0
PRODID:-//Gurwin - ECPv6.15.20//NONSGML v1.0//EN
CALSCALE:GREGORIAN
METHOD:PUBLISH
X-WR-CALNAME:Gurwin
X-ORIGINAL-URL:https://gurwin.org
X-WR-CALDESC:Events for Gurwin
REFRESH-INTERVAL;VALUE=DURATION:PT1H
X-Robots-Tag:noindex
X-PUBLISHED-TTL:PT1H
BEGIN:VTIMEZONE
TZID:UTC
BEGIN:STANDARD
TZOFFSETFROM:+0000
TZOFFSETTO:+0000
TZNAME:UTC
DTSTART:20250101T000000
END:STANDARD
END:VTIMEZONE
BEGIN:VEVENT
DTSTART;TZID=UTC:20260413T080000
DTEND;TZID=UTC:20260429T160000
DTSTAMP:20260422T085226
CREATED:20260217T183523Z
LAST-MODIFIED:20260217T183559Z
UID:46280-1776067200-1777478400@gurwin.org
SUMMARY:Free Paid Home Health Aide (HHA) Training at Gurwin!
DESCRIPTION:Earn While You Learn to be a Licensed HHA!\n  \nHome Health Aide Training from the Experts in Senior Care — Gurwin Home Care Agency\n  \nImagine a profession where you are rewarded for caring about others.  Now is your chance to jump-start a new career as a Home Health Aide\, with free\, paid training from Long Island’s expert in senior care services — Gurwin Healthcare System! Make a difference and change a life! \nWhether you’re just starting your career or ready to make a change\, Gurwin Home Care Agency is here to set you on the path to a rewarding career as a Home Health Aide. \nOur free training classes will be held at Gurwin Home Care Agency\, located on the sprawling 36-acre Gurwin Healthcare System campus in Commack\, NY.   In addition to free in-classroom training\, you’ll gain valuable hands-on experience working as an HHA and earn a salary from Gurwin. \nClick here to register today — class size is limited.      \n  \n  \n  \n 
URL:https://gurwin.org/event/free-paid-home-health-aide-hha-training-at-gurwin-2/
LOCATION:Gurwin Home Care Agency\, 68 Hauppauge Road\, Commack\, 11725\, United States
ATTACH;FMTTYPE=image/png:https://gurwin.org/wp-content/uploads/2025/06/Free-Gurwin-HHA-Training-Classes-2026wb.png
END:VEVENT
END:VCALENDAR